BEGIN:VCALENDAR
VERSION:2.0
PRODID:-//https://calenda-formation.labocleo.org
X-WR-CALNAME:Calenda
X-WR-TIMEZONE:Europe/Paris
CALSCALE:GREGORIAN
X-WR-CALDESC:O calendário de letras e de ciências sociais e humanas
METHOD:PUBLISH
BEGIN:VEVENT
DTSTART;VALUE=DATE:20171127
DTEND;VALUE=DATE:20171128
UID:423974-20171127@calenda.revues.org
SUMMARY:Professeure ou professeur en études économiques des territoires et des ressources
URL:https://calenda-formation.labocleo.org/423974
DESCRIPTION:L’université du Québec à Rimouski (UQAR) sollicite les candidatures de chercheures et de chercheurs d'exception pour développer une chaire de recherche du Canada en études économiques des territoires et des ressources dans les domaines des sciences s… @plus_info https://calenda-formation.labocleo.org/423974
LOCATION:Rimouski
END:VEVENT
END:VCALENDAR
