BEGIN:VCALENDAR
VERSION:2.0
PRODID:-//https://calenda-formation.labocleo.org
X-WR-CALNAME:Calenda
X-WR-TIMEZONE:Europe/Paris
CALSCALE:GREGORIAN
X-WR-CALDESC:The calendar for arts, humanities and social sciences
METHOD:PUBLISH
BEGIN:VEVENT
DTSTART;VALUE=DATE:20180115
DTEND;VALUE=DATE:20180116
UID:424262-20180115@calenda.revues.org
SUMMARY:Challenges of tourism development in Asia and Europe
URL:https://calenda-formation.labocleo.org/424262
DESCRIPTION:The 4th Annual Conference of EATSA – Euro-Asia Tourism Studies Association\, that will take place in France\, next June 18-22th 2018\, is an international forum for researchers and industry experts to exchange information regarding advances in the state… @plus_info https://calenda-formation.labocleo.org/424262
LOCATION:Dijon
END:VEVENT
END:VCALENDAR
