BEGIN:VCALENDAR
VERSION:2.0
PRODID:-//https://calenda-formation.labocleo.org
X-WR-CALNAME:Calenda
X-WR-TIMEZONE:Europe/Paris
CALSCALE:GREGORIAN
X-WR-CALDESC:The calendar for arts, humanities and social sciences
METHOD:PUBLISH
BEGIN:VEVENT
DTSTART;VALUE=DATE:20171218
DTEND;VALUE=DATE:20171219
UID:424283-20171218@calenda.revues.org
SUMMARY:The italian fascism through the prism of contemporary arts
URL:https://calenda-formation.labocleo.org/424283
DESCRIPTION: In a more or less explicit way\, daily news bring to our attention the survival of forms and values which rely on fascist imagery. Thinking about fascism through the prism of contemporary arts means to deal with a term whose significance has to be re… @plus_info https://calenda-formation.labocleo.org/424283
LOCATION:Rome
END:VEVENT
END:VCALENDAR
