BEGIN:VCALENDAR
VERSION:2.0
PRODID:-//https://calenda-formation.labocleo.org
X-WR-CALNAME:Calenda
X-WR-TIMEZONE:Europe/Paris
CALSCALE:GREGORIAN
X-WR-CALDESC:Le calendrier des lettres et sciences humaines et sociales
METHOD:PUBLISH
BEGIN:VEVENT
DTSTART;VALUE=DATE:20180115
DTEND;VALUE=DATE:20180116
UID:424570-20180115@calenda.revues.org
SUMMARY:La nouvelle configuration des sevices publics bruxellois
URL:https://calenda-formation.labocleo.org/424570
DESCRIPTION:Suite à la sixième réforme de l'État\, de nombreuses missions publiques ont été transférées aux régions. Ces dernières ont de ce fait été amenées à réorganiser leurs services en fonction de ces nouvelles compétences et du transfert d'agents. … Weitere Informationen https://calenda-formation.labocleo.org/424570
LOCATION:Brüssel
END:VEVENT
END:VCALENDAR
