BEGIN:VCALENDAR
VERSION:2.0
PRODID:-//https://calenda-formation.labocleo.org
X-WR-CALNAME:Calenda
X-WR-TIMEZONE:Europe/Paris
CALSCALE:GREGORIAN
X-WR-CALDESC:Le calendrier des lettres et sciences humaines et sociales
METHOD:PUBLISH
BEGIN:VEVENT
DTSTART;VALUE=DATE:20180118
DTEND;VALUE=DATE:20180119
UID:424604-20180118@calenda.revues.org
SUMMARY:Santé LGBTI
URL:https://calenda-formation.labocleo.org/424604
DESCRIPTION:Le colloque « Santé LGBTI » vise à restituer les recherches et les pratiques sur les questions relatives à la santé des LGBTI\, sans pour autant se focaliser sur les problématiques traditionnellement abordées (VIH\, Santé Sexuelles). Ce colloque intern… Weitere Informationen https://calenda-formation.labocleo.org/424604
LOCATION:Bordeaux
END:VEVENT
BEGIN:VEVENT
DTSTART;VALUE=DATE:20180119
DTEND;VALUE=DATE:20180120
UID:424604-20180119@calenda.revues.org
SUMMARY:Santé LGBTI
URL:https://calenda-formation.labocleo.org/424604
DESCRIPTION:Le colloque « Santé LGBTI » vise à restituer les recherches et les pratiques sur les questions relatives à la santé des LGBTI\, sans pour autant se focaliser sur les problématiques traditionnellement abordées (VIH\, Santé Sexuelles). Ce colloque intern… Weitere Informationen https://calenda-formation.labocleo.org/424604
LOCATION:Bordeaux
END:VEVENT
END:VCALENDAR
