BEGIN:VCALENDAR
VERSION:2.0
PRODID:-//https://calenda-formation.labocleo.org
X-WR-CALNAME:Calenda
X-WR-TIMEZONE:Europe/Paris
CALSCALE:GREGORIAN
X-WR-CALDESC:The calendar for arts, humanities and social sciences
METHOD:PUBLISH
BEGIN:VEVENT
DTSTART;VALUE=DATE:20180126
DTEND;VALUE=DATE:20180127
UID:424940-20180126@calenda.revues.org
SUMMARY:Health: equity or equality? Definitions\, measurement and action
URL:https://calenda-formation.labocleo.org/424940
DESCRIPTION:La justice sociale est au cœur du débat entre égalité et équité en santé. Comment assurer à toutes et tous un état de santé optimal ? Est-ce en développant des solutions d’accès aux soins et aux services universelles ou ciblées envers certaines popul… @plus_info https://calenda-formation.labocleo.org/424940
LOCATION:Toulouse
END:VEVENT
END:VCALENDAR
