BEGIN:VCALENDAR
VERSION:2.0
PRODID:-//https://calenda-formation.labocleo.org
X-WR-CALNAME:Calenda
X-WR-TIMEZONE:Europe/Paris
CALSCALE:GREGORIAN
X-WR-CALDESC:Le calendrier des lettres et sciences humaines et sociales
METHOD:PUBLISH
BEGIN:VEVENT
DTSTART;VALUE=DATE:20180127
DTEND;VALUE=DATE:20180128
UID:425034-20180127@calenda.revues.org
SUMMARY:Vivre sous l’occupation : illégalités\, collaboration et résistance
URL:https://calenda-formation.labocleo.org/425034
DESCRIPTION:Pour sa VIIIe édition\, le musée organise\, avec l’Institut de recherches historiques du septentrion de l’université de Lille\, sa journée d’étude sur le thème « Vivre sous l’occupation : illégalités\, collaboration et résistance »\, le samedi 27 janvier … Más informaciones https://calenda-formation.labocleo.org/425034
LOCATION:Bondues
END:VEVENT
END:VCALENDAR
