BEGIN:VCALENDAR
VERSION:2.0
PRODID:-//https://calenda-formation.labocleo.org
X-WR-CALNAME:Calenda
X-WR-TIMEZONE:Europe/Paris
CALSCALE:GREGORIAN
X-WR-CALDESC:O calendário de letras e de ciências sociais e humanas
METHOD:PUBLISH
BEGIN:VEVENT
DTSTART;VALUE=DATE:20171127
DTEND;VALUE=DATE:20171128
UID:425053-20171127@calenda.revues.org
SUMMARY:Autour des hauts-fourneaux : art\, tourisme et patrimoine industriel
URL:https://calenda-formation.labocleo.org/425053
DESCRIPTION:Le Centre de recherches sur les médiations (CREM) organise ce lundi 27 novembre 2017 à Metz la journée d’étude « Autour des hauts-fourneaux : art\, patrimoine et tourisme industriel »\, consacrée à l’étude d’initiatives de valorisation du patrimoine in… @plus_info https://calenda-formation.labocleo.org/425053
LOCATION:Metz
END:VEVENT
END:VCALENDAR
