BEGIN:VCALENDAR
VERSION:2.0
PRODID:-//https://calenda-formation.labocleo.org
X-WR-CALNAME:Calenda
X-WR-TIMEZONE:Europe/Paris
CALSCALE:GREGORIAN
X-WR-CALDESC:Le calendrier des lettres et sciences humaines et sociales
METHOD:PUBLISH
BEGIN:VEVENT
DTSTART;VALUE=DATE:20171130
DTEND;VALUE=DATE:20171201
UID:425087-20171130@calenda.revues.org
SUMMARY:Ecos y resplandores helenos en la literatura hispana. Siglos XVI-XXXI. Teatro
URL:https://calenda-formation.labocleo.org/425087
DESCRIPTION:En su segunda edición\, el congreso internacional Ecos y resplandores helenos en la literatura hispana. Siglos XVI-XXI se concentrará en el teatro. El proyecto nace con la necesidad de recordar lo mucho que ha aportado la Hélade tanto en la literatura… Más informaciones https://calenda-formation.labocleo.org/425087
LOCATION:Atenas
END:VEVENT
END:VCALENDAR
