BEGIN:VCALENDAR
VERSION:2.0
PRODID:-//https://calenda-formation.labocleo.org
X-WR-CALNAME:Calenda
X-WR-TIMEZONE:Europe/Paris
CALSCALE:GREGORIAN
X-WR-CALDESC:The calendar for arts, humanities and social sciences
METHOD:PUBLISH
BEGIN:VEVENT
DTSTART;VALUE=DATE:20180215
DTEND;VALUE=DATE:20180216
UID:425169-20180215@calenda.revues.org
SUMMARY:Urban planning\, architecture and video games - what does "game design" actually do?
URL:https://calenda-formation.labocleo.org/425169
DESCRIPTION:Les relations et limites mouvantes entre urbanisme\, architecture et jeu-vidéo sont au cœur des questionnements de ces journées d'études. Les nouvelles\, profondes et durables mutations de ces domaines révèlent l'intérêt\, voire l'urgence\, d'une reformu… @plus_info https://calenda-formation.labocleo.org/425169
LOCATION:Villeneuve-d'Ascq
END:VEVENT
END:VCALENDAR
