BEGIN:VCALENDAR
VERSION:2.0
PRODID:-//https://calenda-formation.labocleo.org
X-WR-CALNAME:Calenda
X-WR-TIMEZONE:Europe/Paris
CALSCALE:GREGORIAN
X-WR-CALDESC:Le calendrier des lettres et sciences humaines et sociales
METHOD:PUBLISH
BEGIN:VEVENT
DTSTART;VALUE=DATE:20180131
DTEND;VALUE=DATE:20180201
UID:425382-20180131@calenda.revues.org
SUMMARY:L'artiste créateur
URL:https://calenda-formation.labocleo.org/425382
DESCRIPTION:En proposant d’explorer le rôle polyvalent des artistes dans la construction\, l’organisation et la gestion des collections royales et princières françaises (y compris celles des cardinaux-ministres)\, cette série de journées d’études a l’ambition d’en… Más informaciones https://calenda-formation.labocleo.org/425382
LOCATION:Guyancourt\, Versalles
END:VEVENT
END:VCALENDAR
