BEGIN:VCALENDAR
VERSION:2.0
PRODID:-//https://calenda-formation.labocleo.org
X-WR-CALNAME:Calenda
X-WR-TIMEZONE:Europe/Paris
CALSCALE:GREGORIAN
X-WR-CALDESC:The calendar for arts, humanities and social sciences
METHOD:PUBLISH
BEGIN:VEVENT
DTSTART;VALUE=DATE:20180128
DTEND;VALUE=DATE:20180129
UID:425466-20180128@calenda.revues.org
SUMMARY:16th seminar of the Marsouin study group 
URL:https://calenda-formation.labocleo.org/425466
DESCRIPTION:Chaque année\, le séminaire rassemble des chercheur·e·s qui partagent un intérêt commun pour les bouleversements opérés par le numérique dans nos sociétés. Ces réflexions mobilisent les chercheur·e·s confirmé·e·s et débutant·e·s dans une démarche réso… @plus_info https://calenda-formation.labocleo.org/425466
LOCATION:Le Bono
END:VEVENT
END:VCALENDAR
