BEGIN:VCALENDAR
VERSION:2.0
PRODID:-//https://calenda-formation.labocleo.org
X-WR-CALNAME:Calenda
X-WR-TIMEZONE:Europe/Paris
CALSCALE:GREGORIAN
X-WR-CALDESC:The calendar for arts, humanities and social sciences
METHOD:PUBLISH
BEGIN:VEVENT
DTSTART;VALUE=DATE:20171207
DTEND;VALUE=DATE:20171208
UID:425787-20171207@calenda.revues.org
SUMMARY:The "Paix des Dames": part 1\, politics\, diplomacy and ceremony
URL:https://calenda-formation.labocleo.org/425787
DESCRIPTION:Parmi toutes les femmes qui ont exercé une fonction de pouvoir dans l’Europe de la Renaissance\, Louise de Savoie et Marguerite d’Autriche sont assurément parmi les plus célèbres. Le traité de paix qu’elles négocièrent ensemble\, au nom de leurs fils e… @plus_info https://calenda-formation.labocleo.org/425787
LOCATION:Wandre
END:VEVENT
BEGIN:VEVENT
DTSTART;VALUE=DATE:20171208
DTEND;VALUE=DATE:20171209
UID:425787-20171208@calenda.revues.org
SUMMARY:The "Paix des Dames": part 1\, politics\, diplomacy and ceremony
URL:https://calenda-formation.labocleo.org/425787
DESCRIPTION:Parmi toutes les femmes qui ont exercé une fonction de pouvoir dans l’Europe de la Renaissance\, Louise de Savoie et Marguerite d’Autriche sont assurément parmi les plus célèbres. Le traité de paix qu’elles négocièrent ensemble\, au nom de leurs fils e… @plus_info https://calenda-formation.labocleo.org/425787
LOCATION:Wandre
END:VEVENT
END:VCALENDAR
