BEGIN:VCALENDAR
VERSION:2.0
PRODID:-//https://calenda-formation.labocleo.org
X-WR-CALNAME:Calenda
X-WR-TIMEZONE:Europe/Paris
CALSCALE:GREGORIAN
X-WR-CALDESC:Le calendrier des lettres et sciences humaines et sociales
METHOD:PUBLISH
BEGIN:VEVENT
DTSTART;VALUE=DATE:20180105
DTEND;VALUE=DATE:20180106
UID:426101-20180105@calenda.revues.org
SUMMARY:Émotions en bataille\, XVIe-XVIIIe siècle
URL:https://calenda-formation.labocleo.org/426101
DESCRIPTION:En dépit de l’histoire des émotions qui constitue aujourd’hui l’un des chantiers les plus prolifiques de l’histoire médiévale\, et de l’histoire des sensibilités qui permet d’explorer les différentes traces et discours des cultures sensorielles des XI… Weitere Informationen https://calenda-formation.labocleo.org/426101
LOCATION:Montreal
END:VEVENT
END:VCALENDAR
