BEGIN:VCALENDAR
VERSION:2.0
PRODID:-//https://calenda-formation.labocleo.org
X-WR-CALNAME:Calenda
X-WR-TIMEZONE:Europe/Paris
CALSCALE:GREGORIAN
X-WR-CALDESC:Le calendrier des lettres et sciences humaines et sociales
METHOD:PUBLISH
BEGIN:VEVENT
DTSTART;VALUE=DATE:20180119
DTEND;VALUE=DATE:20180120
UID:426211-20180119@calenda.revues.org
SUMMARY:Appel à coordination d’un numéro thématique pour la revue « Émulations »
URL:https://calenda-formation.labocleo.org/426211
DESCRIPTION:Émulations est une revue de sciences sociales à comité de lecture international qui publie des articles soumis à un peer review. Elle édite quatre numéros thématiques par an\, publiés en version papier par les Presses universitaires de Louvain (Belgiq… @plus_info https://calenda-formation.labocleo.org/426211
LOCATION:
END:VEVENT
END:VCALENDAR
