BEGIN:VCALENDAR
VERSION:2.0
PRODID:-//https://calenda-formation.labocleo.org
X-WR-CALNAME:Calenda
X-WR-TIMEZONE:Europe/Paris
CALSCALE:GREGORIAN
X-WR-CALDESC:Le calendrier des lettres et sciences humaines et sociales
METHOD:PUBLISH
BEGIN:VEVENT
DTSTART;VALUE=DATE:20180201
DTEND;VALUE=DATE:20180202
UID:426667-20180201@calenda.revues.org
SUMMARY:Visualizing the Political Process
URL:https://calenda-formation.labocleo.org/426667
DESCRIPTION:For the 36th Annual Meeting of the International Visual Sociology Association 2018 we invite scholarly and other visual presentations that relate to the theme Visualizing the Political Process. We also welcome abstracts that address topics relating m… Weitere Informationen https://calenda-formation.labocleo.org/426667
LOCATION:Évry
END:VEVENT
END:VCALENDAR
