BEGIN:VCALENDAR
VERSION:2.0
PRODID:-//https://calenda-formation.labocleo.org
X-WR-CALNAME:Calenda
X-WR-TIMEZONE:Europe/Paris
CALSCALE:GREGORIAN
X-WR-CALDESC:Le calendrier des lettres et sciences humaines et sociales
METHOD:PUBLISH
BEGIN:VEVENT
DTSTART;VALUE=DATE:20171218
DTEND;VALUE=DATE:20171219
UID:427298-20171218@calenda.revues.org
SUMMARY:Histoire et mode
URL:https://calenda-formation.labocleo.org/427298
DESCRIPTION:Ce séminaire approfondira les relations entre mode et histoire du XIXe siècle jusqu'à nos jours. Pour cette première année\, nous aborderons\, en 9 séances\, l'historiographie de l'histoire de la mode\, le tournant sociologique\, l'apport des gender Studi… Weitere Informationen https://calenda-formation.labocleo.org/427298
LOCATION:
END:VEVENT
BEGIN:VEVENT
DTSTART;VALUE=DATE:20180122
DTEND;VALUE=DATE:20180123
UID:427298-20180122@calenda.revues.org
SUMMARY:Histoire et mode
URL:https://calenda-formation.labocleo.org/427298
DESCRIPTION:Ce séminaire approfondira les relations entre mode et histoire du XIXe siècle jusqu'à nos jours. Pour cette première année\, nous aborderons\, en 9 séances\, l'historiographie de l'histoire de la mode\, le tournant sociologique\, l'apport des gender Studi… Weitere Informationen https://calenda-formation.labocleo.org/427298
LOCATION:
END:VEVENT
BEGIN:VEVENT
DTSTART;VALUE=DATE:20180219
DTEND;VALUE=DATE:20180220
UID:427298-20180219@calenda.revues.org
SUMMARY:Histoire et mode
URL:https://calenda-formation.labocleo.org/427298
DESCRIPTION:Ce séminaire approfondira les relations entre mode et histoire du XIXe siècle jusqu'à nos jours. Pour cette première année\, nous aborderons\, en 9 séances\, l'historiographie de l'histoire de la mode\, le tournant sociologique\, l'apport des gender Studi… Weitere Informationen https://calenda-formation.labocleo.org/427298
LOCATION:
END:VEVENT
BEGIN:VEVENT
DTSTART;VALUE=DATE:20180319
DTEND;VALUE=DATE:20180320
UID:427298-20180319@calenda.revues.org
SUMMARY:Histoire et mode
URL:https://calenda-formation.labocleo.org/427298
DESCRIPTION:Ce séminaire approfondira les relations entre mode et histoire du XIXe siècle jusqu'à nos jours. Pour cette première année\, nous aborderons\, en 9 séances\, l'historiographie de l'histoire de la mode\, le tournant sociologique\, l'apport des gender Studi… Weitere Informationen https://calenda-formation.labocleo.org/427298
LOCATION:
END:VEVENT
BEGIN:VEVENT
DTSTART;VALUE=DATE:20180416
DTEND;VALUE=DATE:20180417
UID:427298-20180416@calenda.revues.org
SUMMARY:Histoire et mode
URL:https://calenda-formation.labocleo.org/427298
DESCRIPTION:Ce séminaire approfondira les relations entre mode et histoire du XIXe siècle jusqu'à nos jours. Pour cette première année\, nous aborderons\, en 9 séances\, l'historiographie de l'histoire de la mode\, le tournant sociologique\, l'apport des gender Studi… Weitere Informationen https://calenda-formation.labocleo.org/427298
LOCATION:
END:VEVENT
BEGIN:VEVENT
DTSTART;VALUE=DATE:20180528
DTEND;VALUE=DATE:20180529
UID:427298-20180528@calenda.revues.org
SUMMARY:Histoire et mode
URL:https://calenda-formation.labocleo.org/427298
DESCRIPTION:Ce séminaire approfondira les relations entre mode et histoire du XIXe siècle jusqu'à nos jours. Pour cette première année\, nous aborderons\, en 9 séances\, l'historiographie de l'histoire de la mode\, le tournant sociologique\, l'apport des gender Studi… Weitere Informationen https://calenda-formation.labocleo.org/427298
LOCATION:
END:VEVENT
BEGIN:VEVENT
DTSTART;VALUE=DATE:20180625
DTEND;VALUE=DATE:20180626
UID:427298-20180625@calenda.revues.org
SUMMARY:Histoire et mode
URL:https://calenda-formation.labocleo.org/427298
DESCRIPTION:Ce séminaire approfondira les relations entre mode et histoire du XIXe siècle jusqu'à nos jours. Pour cette première année\, nous aborderons\, en 9 séances\, l'historiographie de l'histoire de la mode\, le tournant sociologique\, l'apport des gender Studi… Weitere Informationen https://calenda-formation.labocleo.org/427298
LOCATION:
END:VEVENT
END:VCALENDAR
