BEGIN:VCALENDAR
VERSION:2.0
PRODID:-//https://calenda-formation.labocleo.org
X-WR-CALNAME:Calenda
X-WR-TIMEZONE:Europe/Paris
CALSCALE:GREGORIAN
X-WR-CALDESC:The calendar for arts, humanities and social sciences
METHOD:PUBLISH
BEGIN:VEVENT
DTSTART;VALUE=DATE:20180125
DTEND;VALUE=DATE:20180126
UID:427806-20180125@calenda.revues.org
SUMMARY:The protection of the climate and biodiversity through the optic of economic law
URL:https://calenda-formation.labocleo.org/427806
DESCRIPTION:Le droit de l’environnement est confronté à deux challenges majeurs : conserver la biodiversité (et les services écosystémiques) et protéger le climat. Dans le même temps\, la nature ordinaire voit son rôle reconnu dans la préservation de la biodivers… @plus_info https://calenda-formation.labocleo.org/427806
LOCATION:Paris
END:VEVENT
END:VCALENDAR
