BEGIN:VCALENDAR
VERSION:2.0
PRODID:-//https://calenda-formation.labocleo.org
X-WR-CALNAME:Calenda
X-WR-TIMEZONE:Europe/Paris
CALSCALE:GREGORIAN
X-WR-CALDESC:Le calendrier des lettres et sciences humaines et sociales
METHOD:PUBLISH
BEGIN:VEVENT
DTSTART;VALUE=DATE:20180323
DTEND;VALUE=DATE:20180324
UID:428191-20180323@calenda.revues.org
SUMMARY:Habiter aujourd'hui - De la ville intelligente à la ville durable 
URL:https://calenda-formation.labocleo.org/428191
DESCRIPTION:Appliquer à la notion d’« urbanité » les principes du développement durable\, tout en élargissant le champ de la recherche\, implique de prendre en compte un ensemble coordonné de problématiques qui lui sont consubstantielles. La question de la converg… Más informaciones https://calenda-formation.labocleo.org/428191
LOCATION:Montpellier
END:VEVENT
END:VCALENDAR
