BEGIN:VCALENDAR
VERSION:2.0
PRODID:-//https://calenda-formation.labocleo.org
X-WR-CALNAME:Calenda
X-WR-TIMEZONE:Europe/Paris
CALSCALE:GREGORIAN
X-WR-CALDESC:Le calendrier des lettres et sciences humaines et sociales
METHOD:PUBLISH
BEGIN:VEVENT
DTSTART;VALUE=DATE:20180228
DTEND;VALUE=DATE:20180301
UID:428220-20180228@calenda.revues.org
SUMMARY:Littérature et médecine
URL:https://calenda-formation.labocleo.org/428220
DESCRIPTION:La littérature est thérapeutique et la médecine est littéraire. La littérature et la médecine\, disciplines différentes certes\, constituent de plus en plus une alliance des plus appréciables qui\, non seulement\, soulève la problématique des rapports en… @plus_info https://calenda-formation.labocleo.org/428220
LOCATION:
END:VEVENT
END:VCALENDAR
