BEGIN:VCALENDAR
VERSION:2.0
PRODID:-//https://calenda-formation.labocleo.org
X-WR-CALNAME:Calenda
X-WR-TIMEZONE:Europe/Paris
CALSCALE:GREGORIAN
X-WR-CALDESC:Le calendrier des lettres et sciences humaines et sociales
METHOD:PUBLISH
BEGIN:VEVENT
DTSTART;VALUE=DATE:20180201
DTEND;VALUE=DATE:20180202
UID:428273-20180201@calenda.revues.org
SUMMARY:Travail gratuit\, service\, citoyenneté
URL:https://calenda-formation.labocleo.org/428273
DESCRIPTION:Cette journée d’études pluridisciplinaire s’intéresse au travail gratuit dans ses rapports à la fois pratiques et discursifs aux notions de service et de citoyenneté. Elle a vocation à organiser un premier dialogue entre historiens et sociologues aut… Más informaciones https://calenda-formation.labocleo.org/428273
LOCATION:Nanterre
END:VEVENT
END:VCALENDAR
