BEGIN:VCALENDAR
VERSION:2.0
PRODID:-//https://calenda-formation.labocleo.org
X-WR-CALNAME:Calenda
X-WR-TIMEZONE:Europe/Paris
CALSCALE:GREGORIAN
X-WR-CALDESC:Le calendrier des lettres et sciences humaines et sociales
METHOD:PUBLISH
BEGIN:VEVENT
DTSTART;VALUE=DATE:20180228
DTEND;VALUE=DATE:20180301
UID:428314-20180228@calenda.revues.org
SUMMARY:Formatage de la non-religion dans la société post-moderne
URL:https://calenda-formation.labocleo.org/428314
DESCRIPTION:Le colloque Formatage de la non-religion dans la société post-moderne - perspectives institutionnelles et juridiques invite les chercheurs de toutes disciplines à aborder la conceptualisation et la connaissance de la non-religion dans la société mode… Weitere Informationen https://calenda-formation.labocleo.org/428314
LOCATION:Oslo
END:VEVENT
END:VCALENDAR
