BEGIN:VCALENDAR
VERSION:2.0
PRODID:-//https://calenda-formation.labocleo.org
X-WR-CALNAME:Calenda
X-WR-TIMEZONE:Europe/Paris
CALSCALE:GREGORIAN
X-WR-CALDESC:The calendar for arts, humanities and social sciences
METHOD:PUBLISH
BEGIN:VEVENT
DTSTART;VALUE=DATE:20180122
DTEND;VALUE=DATE:20180123
UID:428384-20180122@calenda.revues.org
SUMMARY:Interdisciplinarity and the relations between the sciences\, environment and knowledge
URL:https://calenda-formation.labocleo.org/428384
DESCRIPTION:Les problèmes environnementaux contemporains étant liés aux activités humaines\, on ne les réglera pas\, pas plus qu’on ne les pensera correctement\, depuis le seul point de vue des sciences de la nature. Symétriquement\, les lettres et sciences humaines… @plus_info https://calenda-formation.labocleo.org/428384
LOCATION:Paris
END:VEVENT
END:VCALENDAR
