BEGIN:VCALENDAR
VERSION:2.0
PRODID:-//https://calenda-formation.labocleo.org
X-WR-CALNAME:Calenda
X-WR-TIMEZONE:Europe/Paris
CALSCALE:GREGORIAN
X-WR-CALDESC:The calendar for arts, humanities and social sciences
METHOD:PUBLISH
BEGIN:VEVENT
DTSTART;VALUE=DATE:20180130
DTEND;VALUE=DATE:20180131
UID:428421-20180130@calenda.revues.org
SUMMARY:Transition(s): concept\, methods and case studies (14th-17th centuries)
URL:https://calenda-formation.labocleo.org/428421
DESCRIPTION:The Research Unit “Transitions. Middle Ages and First Modernity” (University of Liège) associated with the research laboratory TRAME (Texts\, Representations\, Archaeology and Memory from Antiquity to the Renaissance) of the University of Picardie Jule… @plus_info https://calenda-formation.labocleo.org/428421
LOCATION:Liège
END:VEVENT
BEGIN:VEVENT
DTSTART;VALUE=DATE:20180131
DTEND;VALUE=DATE:20180201
UID:428421-20180131@calenda.revues.org
SUMMARY:Transition(s): concept\, methods and case studies (14th-17th centuries)
URL:https://calenda-formation.labocleo.org/428421
DESCRIPTION:The Research Unit “Transitions. Middle Ages and First Modernity” (University of Liège) associated with the research laboratory TRAME (Texts\, Representations\, Archaeology and Memory from Antiquity to the Renaissance) of the University of Picardie Jule… @plus_info https://calenda-formation.labocleo.org/428421
LOCATION:Liège
END:VEVENT
END:VCALENDAR
