BEGIN:VCALENDAR
VERSION:2.0
PRODID:-//https://calenda-formation.labocleo.org
X-WR-CALNAME:Calenda
X-WR-TIMEZONE:Europe/Paris
CALSCALE:GREGORIAN
X-WR-CALDESC:The calendar for arts, humanities and social sciences
METHOD:PUBLISH
BEGIN:VEVENT
DTSTART;VALUE=DATE:20180228
DTEND;VALUE=DATE:20180301
UID:428638-20180228@calenda.revues.org
SUMMARY:Stages of Utopia and Dissent
URL:https://calenda-formation.labocleo.org/428638
DESCRIPTION:15th May 1968: the Odeon theatre in Paris is occupied by students and becomes the insurgent headquarters where every night militants recount the days' action in occupied factories to an audience of people camping in the auditorium. Youth rebellion wa… @plus_info https://calenda-formation.labocleo.org/428638
LOCATION:East London
END:VEVENT
END:VCALENDAR
