BEGIN:VCALENDAR
VERSION:2.0
PRODID:-//https://calenda-formation.labocleo.org
X-WR-CALNAME:Calenda
X-WR-TIMEZONE:Europe/Paris
CALSCALE:GREGORIAN
X-WR-CALDESC:Le calendrier des lettres et sciences humaines et sociales
METHOD:PUBLISH
BEGIN:VEVENT
DTSTART;VALUE=DATE:20180130
DTEND;VALUE=DATE:20180131
UID:428782-20180130@calenda.revues.org
SUMMARY: Publication de travaux de recherche et action publique
URL:https://calenda-formation.labocleo.org/428782
DESCRIPTION:Ce séminaire vise à tirer les conséquences d’une évolution des pratiques allant vers plus d’inclusion des personnes âgées et en situation de handicap dans la vie sociale\, avec la difficulté de devoir concevoir les politiques publiques dans un paysage… Más informaciones https://calenda-formation.labocleo.org/428782
LOCATION:París
END:VEVENT
BEGIN:VEVENT
DTSTART;VALUE=DATE:20180327
DTEND;VALUE=DATE:20180328
UID:428782-20180327@calenda.revues.org
SUMMARY: Publication de travaux de recherche et action publique
URL:https://calenda-formation.labocleo.org/428782
DESCRIPTION:Ce séminaire vise à tirer les conséquences d’une évolution des pratiques allant vers plus d’inclusion des personnes âgées et en situation de handicap dans la vie sociale\, avec la difficulté de devoir concevoir les politiques publiques dans un paysage… Más informaciones https://calenda-formation.labocleo.org/428782
LOCATION:París
END:VEVENT
BEGIN:VEVENT
DTSTART;VALUE=DATE:20180403
DTEND;VALUE=DATE:20180404
UID:428782-20180403@calenda.revues.org
SUMMARY: Publication de travaux de recherche et action publique
URL:https://calenda-formation.labocleo.org/428782
DESCRIPTION:Ce séminaire vise à tirer les conséquences d’une évolution des pratiques allant vers plus d’inclusion des personnes âgées et en situation de handicap dans la vie sociale\, avec la difficulté de devoir concevoir les politiques publiques dans un paysage… Más informaciones https://calenda-formation.labocleo.org/428782
LOCATION:París
END:VEVENT
BEGIN:VEVENT
DTSTART;VALUE=DATE:20180703
DTEND;VALUE=DATE:20180704
UID:428782-20180703@calenda.revues.org
SUMMARY: Publication de travaux de recherche et action publique
URL:https://calenda-formation.labocleo.org/428782
DESCRIPTION:Ce séminaire vise à tirer les conséquences d’une évolution des pratiques allant vers plus d’inclusion des personnes âgées et en situation de handicap dans la vie sociale\, avec la difficulté de devoir concevoir les politiques publiques dans un paysage… Más informaciones https://calenda-formation.labocleo.org/428782
LOCATION:París
END:VEVENT
END:VCALENDAR
