BEGIN:VCALENDAR
VERSION:2.0
PRODID:-//https://calenda-formation.labocleo.org
X-WR-CALNAME:Calenda
X-WR-TIMEZONE:Europe/Paris
CALSCALE:GREGORIAN
X-WR-CALDESC:The calendar for arts, humanities and social sciences
METHOD:PUBLISH
BEGIN:VEVENT
DTSTART;VALUE=DATE:20180125
DTEND;VALUE=DATE:20180126
UID:428986-20180125@calenda.revues.org
SUMMARY:Jacques Delille (1738-1813)\, reception of his work outside France
URL:https://calenda-formation.labocleo.org/428986
DESCRIPTION:Si l’on sait que Jacques Delille (1738-1813) fut tenu de son temps pour l’un des plus grands poètes français\, sa réception à l’étranger n’a guère été étudiée. Or\, elle a été massive et\, à l’image d’une onde sismique dont on ne ressentirait pas les ef… @plus_info https://calenda-formation.labocleo.org/428986
LOCATION:Basel
END:VEVENT
BEGIN:VEVENT
DTSTART;VALUE=DATE:20180126
DTEND;VALUE=DATE:20180127
UID:428986-20180126@calenda.revues.org
SUMMARY:Jacques Delille (1738-1813)\, reception of his work outside France
URL:https://calenda-formation.labocleo.org/428986
DESCRIPTION:Si l’on sait que Jacques Delille (1738-1813) fut tenu de son temps pour l’un des plus grands poètes français\, sa réception à l’étranger n’a guère été étudiée. Or\, elle a été massive et\, à l’image d’une onde sismique dont on ne ressentirait pas les ef… @plus_info https://calenda-formation.labocleo.org/428986
LOCATION:Basel
END:VEVENT
END:VCALENDAR
