BEGIN:VCALENDAR
VERSION:2.0
PRODID:-//https://calenda-formation.labocleo.org
X-WR-CALNAME:Calenda
X-WR-TIMEZONE:Europe/Paris
CALSCALE:GREGORIAN
X-WR-CALDESC:The calendar for arts, humanities and social sciences
METHOD:PUBLISH
BEGIN:VEVENT
DTSTART;VALUE=DATE:20180121
DTEND;VALUE=DATE:20180122
UID:429169-20180121@calenda.revues.org
SUMMARY:Creation\, creativity and mediation 
URL:https://calenda-formation.labocleo.org/429169
DESCRIPTION:Créez ! Soyez (tous) créatifs ! Et\, bien sûr\, soyez innovants ! Les appels à la création et la créativité sont devenus comminatoires tels des « impératifs catégoriques »\, quel que soit le secteur d’activités : les problématiques de l’innovation hante… @plus_info https://calenda-formation.labocleo.org/429169
LOCATION:Saint-Denis
END:VEVENT
END:VCALENDAR
