BEGIN:VCALENDAR
VERSION:2.0
PRODID:-//https://calenda-formation.labocleo.org
X-WR-CALNAME:Calenda
X-WR-TIMEZONE:Europe/Paris
CALSCALE:GREGORIAN
X-WR-CALDESC:Le calendrier des lettres et sciences humaines et sociales
METHOD:PUBLISH
BEGIN:VEVENT
DTSTART;VALUE=DATE:20180208
DTEND;VALUE=DATE:20180209
UID:429546-20180208@calenda.revues.org
SUMMARY:Image(s) of India
URL:https://calenda-formation.labocleo.org/429546
DESCRIPTION:What do we picture when we evoke India? For its 20 th annual Workshop\, The “Association des jeunes études indiennes” (AJEI) invites young researchers to share their knowledge and to propose a critical approach of the concept of ‘Images’ in the subcon… Más informaciones https://calenda-formation.labocleo.org/429546
LOCATION:Delhi
END:VEVENT
END:VCALENDAR
