BEGIN:VCALENDAR
VERSION:2.0
PRODID:-//https://calenda-formation.labocleo.org
X-WR-CALNAME:Calenda
X-WR-TIMEZONE:Europe/Paris
CALSCALE:GREGORIAN
X-WR-CALDESC:The calendar for arts, humanities and social sciences
METHOD:PUBLISH
BEGIN:VEVENT
DTSTART;VALUE=DATE:20180202
DTEND;VALUE=DATE:20180203
UID:429647-20180202@calenda.revues.org
SUMMARY:The historiography of architecture through the prism of cultural transfer
URL:https://calenda-formation.labocleo.org/429647
DESCRIPTION:Formulés par Michel Espagne et Michael Werner dans les années 1980 pour analyser les échanges franco-allemands\, les transferts culturels nous invitent à observer et étudier les processus d'importation et d’assimilation des comportements\, écrits\, idée… @plus_info https://calenda-formation.labocleo.org/429647
LOCATION:Strasbourg
END:VEVENT
END:VCALENDAR
