BEGIN:VCALENDAR
VERSION:2.0
PRODID:-//https://calenda-formation.labocleo.org
X-WR-CALNAME:Calenda
X-WR-TIMEZONE:Europe/Paris
CALSCALE:GREGORIAN
X-WR-CALDESC:O calendário de letras e de ciências sociais e humanas
METHOD:PUBLISH
BEGIN:VEVENT
DTSTART;VALUE=DATE:20180118
DTEND;VALUE=DATE:20180119
UID:429675-20180118@calenda.revues.org
SUMMARY:Le défi de Caliban
URL:https://calenda-formation.labocleo.org/429675
DESCRIPTION:Parler de la diversité des enjeux et des traditions de ce Sud qui peine à se définir autrement que comme le Sud d’un Nord colonialiste signifie aussi s’intéresser à la diversité des dispositifs discursifs existants. L’hétérogénéité des discours et\, p… @plus_info https://calenda-formation.labocleo.org/429675
LOCATION:Paris
END:VEVENT
BEGIN:VEVENT
DTSTART;VALUE=DATE:20180119
DTEND;VALUE=DATE:20180120
UID:429675-20180119@calenda.revues.org
SUMMARY:Le défi de Caliban
URL:https://calenda-formation.labocleo.org/429675
DESCRIPTION:Parler de la diversité des enjeux et des traditions de ce Sud qui peine à se définir autrement que comme le Sud d’un Nord colonialiste signifie aussi s’intéresser à la diversité des dispositifs discursifs existants. L’hétérogénéité des discours et\, p… @plus_info https://calenda-formation.labocleo.org/429675
LOCATION:Paris
END:VEVENT
END:VCALENDAR
