BEGIN:VCALENDAR
VERSION:2.0
PRODID:-//https://calenda-formation.labocleo.org
X-WR-CALNAME:Calenda
X-WR-TIMEZONE:Europe/Paris
CALSCALE:GREGORIAN
X-WR-CALDESC:The calendar for arts, humanities and social sciences
METHOD:PUBLISH
BEGIN:VEVENT
DTSTART;VALUE=DATE:20180626
DTEND;VALUE=DATE:20180627
UID:429752-20180626@calenda.revues.org
SUMMARY:Sport: health and inclusiveness
URL:https://calenda-formation.labocleo.org/429752
DESCRIPTION:Depuis les premières études sur le sport gay et lesbien\, l'étude des corpus à travers l'histoire des structures du Gay Games\, les curriculum des pratiquants·es et les modèles de l'inclusion par le sport au service de l'égalité est encore inédite dans… @plus_info https://calenda-formation.labocleo.org/429752
LOCATION:Paris
END:VEVENT
END:VCALENDAR
