BEGIN:VCALENDAR
VERSION:2.0
PRODID:-//https://calenda-formation.labocleo.org
X-WR-CALNAME:Calenda
X-WR-TIMEZONE:Europe/Paris
CALSCALE:GREGORIAN
X-WR-CALDESC:The calendar for arts, humanities and social sciences
METHOD:PUBLISH
BEGIN:VEVENT
DTSTART;VALUE=DATE:20180315
DTEND;VALUE=DATE:20180316
UID:429770-20180315@calenda.revues.org
SUMMARY:Issue for 10th anniversary of “Essachess - Journal for Communication Studies”
URL:https://calenda-formation.labocleo.org/429770
DESCRIPTION:This open call of ESSACHESS – Journal for Communication Studies\, celebrating its 10th anniversary\, intends to offer a panoramic\, a pluridisciplinary and an open view on the matters related to information and communication sciences by bringing togethe… @plus_info https://calenda-formation.labocleo.org/429770
LOCATION:Montpellier
END:VEVENT
END:VCALENDAR
