BEGIN:VCALENDAR
VERSION:2.0
PRODID:-//https://calenda-formation.labocleo.org
X-WR-CALNAME:Calenda
X-WR-TIMEZONE:Europe/Paris
CALSCALE:GREGORIAN
X-WR-CALDESC:The calendar for arts, humanities and social sciences
METHOD:PUBLISH
BEGIN:VEVENT
DTSTART;VALUE=DATE:20180125
DTEND;VALUE=DATE:20180126
UID:429782-20180125@calenda.revues.org
SUMMARY:The history of law publications (16th-21st century)
URL:https://calenda-formation.labocleo.org/429782
DESCRIPTION:La prise de conscience pourtant chez les juristes d’un intérêt pour l’enseignement de leur discipline\, puis pour ceux d’entre eux qui avaient laissé des traces théoriques comme pratiques\, en métropole\, dans les colonies\, comme à l’étranger\, ne pouvai… @plus_info https://calenda-formation.labocleo.org/429782
LOCATION:Nanterre\, Paris
END:VEVENT
BEGIN:VEVENT
DTSTART;VALUE=DATE:20180126
DTEND;VALUE=DATE:20180127
UID:429782-20180126@calenda.revues.org
SUMMARY:The history of law publications (16th-21st century)
URL:https://calenda-formation.labocleo.org/429782
DESCRIPTION:La prise de conscience pourtant chez les juristes d’un intérêt pour l’enseignement de leur discipline\, puis pour ceux d’entre eux qui avaient laissé des traces théoriques comme pratiques\, en métropole\, dans les colonies\, comme à l’étranger\, ne pouvai… @plus_info https://calenda-formation.labocleo.org/429782
LOCATION:Nanterre\, Paris
END:VEVENT
END:VCALENDAR
