BEGIN:VCALENDAR
VERSION:2.0
PRODID:-//https://calenda-formation.labocleo.org
X-WR-CALNAME:Calenda
X-WR-TIMEZONE:Europe/Paris
CALSCALE:GREGORIAN
X-WR-CALDESC:The calendar for arts, humanities and social sciences
METHOD:PUBLISH
BEGIN:VEVENT
DTSTART;VALUE=DATE:20180126
DTEND;VALUE=DATE:20180127
UID:429913-20180126@calenda.revues.org
SUMMARY:From habitat to practice - what is habitation?
URL:https://calenda-formation.labocleo.org/429913
DESCRIPTION:Avec ce séminaire il s’agira de mettre en perspective divers moments et situations rendant visibles et sensibles les pratiques d’habiter. On propose de mettre en perspective les approches classiques en termes de culture matérielle et de formes archit… @plus_info https://calenda-formation.labocleo.org/429913
LOCATION:Marseille
END:VEVENT
BEGIN:VEVENT
DTSTART;VALUE=DATE:20180413
DTEND;VALUE=DATE:20180414
UID:429913-20180413@calenda.revues.org
SUMMARY:From habitat to practice - what is habitation?
URL:https://calenda-formation.labocleo.org/429913
DESCRIPTION:Avec ce séminaire il s’agira de mettre en perspective divers moments et situations rendant visibles et sensibles les pratiques d’habiter. On propose de mettre en perspective les approches classiques en termes de culture matérielle et de formes archit… @plus_info https://calenda-formation.labocleo.org/429913
LOCATION:Marseille
END:VEVENT
END:VCALENDAR
