BEGIN:VCALENDAR
VERSION:2.0
PRODID:-//https://calenda-formation.labocleo.org
X-WR-CALNAME:Calenda
X-WR-TIMEZONE:Europe/Paris
CALSCALE:GREGORIAN
X-WR-CALDESC:Le calendrier des lettres et sciences humaines et sociales
METHOD:PUBLISH
BEGIN:VEVENT
DTSTART;VALUE=DATE:20181015
DTEND;VALUE=DATE:20181016
UID:430084-20181015@calenda.revues.org
SUMMARY:L’innovation dans les sociétés insulaires : retombées et perspectives
URL:https://calenda-formation.labocleo.org/430084
DESCRIPTION:Cette journée d’échange pluridisciplinaire (JES 2018)\, ouverte à tous\, invite à s’interroger sur la pertinence et l’appropriation ou non des innovations dans des contextes socio-économiques\, naturels et culturels différenciés (sociétés insulaires). E… @plus_info https://calenda-formation.labocleo.org/430084
LOCATION:Schœlcher
END:VEVENT
END:VCALENDAR
