BEGIN:VCALENDAR
VERSION:2.0
PRODID:-//https://calenda-formation.labocleo.org
X-WR-CALNAME:Calenda
X-WR-TIMEZONE:Europe/Paris
CALSCALE:GREGORIAN
X-WR-CALDESC:Le calendrier des lettres et sciences humaines et sociales
METHOD:PUBLISH
BEGIN:VEVENT
DTSTART;VALUE=DATE:20180402
DTEND;VALUE=DATE:20180403
UID:430777-20180402@calenda.revues.org
SUMMARY:Musées et première guerre mondiale
URL:https://calenda-formation.labocleo.org/430777
DESCRIPTION:Depuis 2012\, l’Association des conservateurs des musées des Hauts-de-France développe un programme intitulé « Guerres et paix » destiné à étudier l’impact de la première guerre mondiale sur les musées. Un colloque de deux jours vient clôturer la mani… Weitere Informationen https://calenda-formation.labocleo.org/430777
LOCATION:Péronne\, Valenciennes
END:VEVENT
END:VCALENDAR
