BEGIN:VCALENDAR
VERSION:2.0
PRODID:-//https://calenda-formation.labocleo.org
X-WR-CALNAME:Calenda
X-WR-TIMEZONE:Europe/Paris
CALSCALE:GREGORIAN
X-WR-CALDESC:The calendar for arts, humanities and social sciences
METHOD:PUBLISH
BEGIN:VEVENT
DTSTART;VALUE=DATE:20180216
DTEND;VALUE=DATE:20180217
UID:430846-20180216@calenda.revues.org
SUMMARY:Art and Politics
URL:https://calenda-formation.labocleo.org/430846
DESCRIPTION:The 16th AnnualSpringtime Academy (École de printemps d’histoire de l’art) organized by the International Consortium on Art Historywill take place from June 18–23\, 2018\, at the Université Paris Nanterre\, on the theme “Art and Politics\,” reflecting th… @plus_info https://calenda-formation.labocleo.org/430846
LOCATION:Nanterre
END:VEVENT
END:VCALENDAR
