BEGIN:VCALENDAR
VERSION:2.0
PRODID:-//https://calenda-formation.labocleo.org
X-WR-CALNAME:Calenda
X-WR-TIMEZONE:Europe/Paris
CALSCALE:GREGORIAN
X-WR-CALDESC:O calendário de letras e de ciências sociais e humanas
METHOD:PUBLISH
BEGIN:VEVENT
DTSTART;VALUE=DATE:20180301
DTEND;VALUE=DATE:20180302
UID:431039-20180301@calenda.revues.org
SUMMARY:La corruption\, dispositif de pouvoir à l'époque contemporaine
URL:https://calenda-formation.labocleo.org/431039
DESCRIPTION:L'objectif de l'atelier est d'analyser pourquoi l'utilisation du pouvoir public pour obtenir des bénéfices privés est devenue une constante dans le fonctionnement des systèmes politiques libéraux et démocratiques tout au long des XIXe et XXe siècles … @plus_info https://calenda-formation.labocleo.org/431039
LOCATION:Alicante
END:VEVENT
END:VCALENDAR
