BEGIN:VCALENDAR
VERSION:2.0
PRODID:-//https://calenda-formation.labocleo.org
X-WR-CALNAME:Calenda
X-WR-TIMEZONE:Europe/Paris
CALSCALE:GREGORIAN
X-WR-CALDESC:O calendário de letras e de ciências sociais e humanas
METHOD:PUBLISH
BEGIN:VEVENT
DTSTART;VALUE=DATE:20180614
DTEND;VALUE=DATE:20180615
UID:431091-20180614@calenda.revues.org
SUMMARY:La coupe du monde de football\, entre Europe et Amériques
URL:https://calenda-formation.labocleo.org/431091
DESCRIPTION:Le 14 juin 2018 sera donné le coup d'envoi de la 21e Coupe du monde de football de la FIFA en Russie. À l'heure où ce méga-événement sportif monopolisera l'attention médiatique\, ce colloque entend permettre une meilleure compréhension de l'histoire d… @plus_info https://calenda-formation.labocleo.org/431091
LOCATION:Paris
END:VEVENT
BEGIN:VEVENT
DTSTART;VALUE=DATE:20180615
DTEND;VALUE=DATE:20180616
UID:431091-20180615@calenda.revues.org
SUMMARY:La coupe du monde de football\, entre Europe et Amériques
URL:https://calenda-formation.labocleo.org/431091
DESCRIPTION:Le 14 juin 2018 sera donné le coup d'envoi de la 21e Coupe du monde de football de la FIFA en Russie. À l'heure où ce méga-événement sportif monopolisera l'attention médiatique\, ce colloque entend permettre une meilleure compréhension de l'histoire d… @plus_info https://calenda-formation.labocleo.org/431091
LOCATION:Paris
END:VEVENT
END:VCALENDAR
