BEGIN:VCALENDAR
VERSION:2.0
PRODID:-//https://calenda-formation.labocleo.org
X-WR-CALNAME:Calenda
X-WR-TIMEZONE:Europe/Paris
CALSCALE:GREGORIAN
X-WR-CALDESC:O calendário de letras e de ciências sociais e humanas
METHOD:PUBLISH
BEGIN:VEVENT
DTSTART;VALUE=DATE:20180215
DTEND;VALUE=DATE:20180216
UID:431192-20180215@calenda.revues.org
SUMMARY:Pouvoir et religion dans l'Antiquité : échos\, mémoire\, oubli
URL:https://calenda-formation.labocleo.org/431192
DESCRIPTION:Cette journée d’étude propose d’interroger l’interaction entre les notions de pouvoir et de religion dans l’Antiquité en s’appuyant sur la richesse et la diversité des approches des équipes de recherches toulousaines PLH-CRATA et PLH-ERASME. Cette ma… @plus_info https://calenda-formation.labocleo.org/431192
LOCATION:Toulouse
END:VEVENT
END:VCALENDAR
