BEGIN:VCALENDAR
VERSION:2.0
PRODID:-//https://calenda-formation.labocleo.org
X-WR-CALNAME:Calenda
X-WR-TIMEZONE:Europe/Paris
CALSCALE:GREGORIAN
X-WR-CALDESC:Le calendrier des lettres et sciences humaines et sociales
METHOD:PUBLISH
BEGIN:VEVENT
DTSTART;VALUE=DATE:20181015
DTEND;VALUE=DATE:20181016
UID:431259-20181015@calenda.revues.org
SUMMARY:L’internationalisation des villes au (début) du XXIe siècle 
URL:https://calenda-formation.labocleo.org/431259
DESCRIPTION:Ce colloque\, qui vient conclure le programme\, réunira des chercheurs et des acteurs français et étrangers (élus locaux\, responsables techniques de collectivités territoriales\, responsables institutionnels nationaux et de réseaux de collectivités terr… Weitere Informationen https://calenda-formation.labocleo.org/431259
LOCATION:Champs-sur-Marne
END:VEVENT
BEGIN:VEVENT
DTSTART;VALUE=DATE:20181016
DTEND;VALUE=DATE:20181017
UID:431259-20181016@calenda.revues.org
SUMMARY:L’internationalisation des villes au (début) du XXIe siècle 
URL:https://calenda-formation.labocleo.org/431259
DESCRIPTION:Ce colloque\, qui vient conclure le programme\, réunira des chercheurs et des acteurs français et étrangers (élus locaux\, responsables techniques de collectivités territoriales\, responsables institutionnels nationaux et de réseaux de collectivités terr… Weitere Informationen https://calenda-formation.labocleo.org/431259
LOCATION:Champs-sur-Marne
END:VEVENT
END:VCALENDAR
