BEGIN:VCALENDAR
VERSION:2.0
PRODID:-//https://calenda-formation.labocleo.org
X-WR-CALNAME:Calenda
X-WR-TIMEZONE:Europe/Paris
CALSCALE:GREGORIAN
X-WR-CALDESC:Le calendrier des lettres et sciences humaines et sociales
METHOD:PUBLISH
BEGIN:VEVENT
DTSTART;VALUE=DATE:20180331
DTEND;VALUE=DATE:20180401
UID:431309-20180331@calenda.revues.org
SUMMARY:L'écologie\, éducation et culture
URL:https://calenda-formation.labocleo.org/431309
DESCRIPTION:Selon quels projets\, de quelle manière et par quels moyens les acteurs de la lecture et de la documentation peuvent rendre les bibliothèques publiques et les centres de documentation écologiquementet socialement responsables et développer la culture … Weitere Informationen https://calenda-formation.labocleo.org/431309
LOCATION:Tunis
END:VEVENT
END:VCALENDAR
