BEGIN:VCALENDAR
VERSION:2.0
PRODID:-//https://calenda-formation.labocleo.org
X-WR-CALNAME:Calenda
X-WR-TIMEZONE:Europe/Paris
CALSCALE:GREGORIAN
X-WR-CALDESC:O calendário de letras e de ciências sociais e humanas
METHOD:PUBLISH
BEGIN:VEVENT
DTSTART;VALUE=DATE:20180430
DTEND;VALUE=DATE:20180501
UID:431639-20180430@calenda.revues.org
SUMMARY:Fribourg (Suisse) et les expériences de l'exil
URL:https://calenda-formation.labocleo.org/431639
DESCRIPTION:La rédaction des Annales fribourgeoises (revue d'histoire cantonale suisse) souhaite consacrer un numéro spécial aux expériences de l'exil sur le temps long. L'approche se veut large\, tant d'un point de vue thématique (i.e. les motifs de l'exil - soc… @plus_info https://calenda-formation.labocleo.org/431639
LOCATION:Friburgo
END:VEVENT
END:VCALENDAR
