BEGIN:VCALENDAR
VERSION:2.0
PRODID:-//https://calenda-formation.labocleo.org
X-WR-CALNAME:Calenda
X-WR-TIMEZONE:Europe/Paris
CALSCALE:GREGORIAN
X-WR-CALDESC:The calendar for arts, humanities and social sciences
METHOD:PUBLISH
BEGIN:VEVENT
DTSTART;VALUE=DATE:20180322
DTEND;VALUE=DATE:20180323
UID:431657-20180322@calenda.revues.org
SUMMARY:Formal and informal hierarchies - archives and representations of space - maps and charts
URL:https://calenda-formation.labocleo.org/431657
DESCRIPTION:La répartition des tâches au sein d'une société\, d'une institution ou d'une organisation repose souvent sur la classification formelle ou informelle des personnes au sein d'une hiérarchie ; elle vise à répartir les personnes auxquels on accorde des p… @plus_info https://calenda-formation.labocleo.org/431657
LOCATION:Paris
END:VEVENT
END:VCALENDAR
