BEGIN:VCALENDAR
VERSION:2.0
PRODID:-//https://calenda-formation.labocleo.org
X-WR-CALNAME:Calenda
X-WR-TIMEZONE:Europe/Paris
CALSCALE:GREGORIAN
X-WR-CALDESC:Le calendrier des lettres et sciences humaines et sociales
METHOD:PUBLISH
BEGIN:VEVENT
DTSTART;VALUE=DATE:20180601
DTEND;VALUE=DATE:20180602
UID:432424-20180601@calenda.revues.org
SUMMARY:Un cinéma poétique ?
URL:https://calenda-formation.labocleo.org/432424
DESCRIPTION:Si la question de la poésie « cinématographique » a fait l’objet de quelques études récentes (Mc Cabe\, 2009 ;Wall-Romana\, 2013 ; Cohen\, 2013)\, celle du cinéma « poétique » n’a encore été traitée que de manière indirecte et partielle. Les littéraires … @plus_info https://calenda-formation.labocleo.org/432424
LOCATION:Bruxelles\, Louvain
END:VEVENT
END:VCALENDAR
