BEGIN:VCALENDAR
VERSION:2.0
PRODID:-//https://calenda-formation.labocleo.org
X-WR-CALNAME:Calenda
X-WR-TIMEZONE:Europe/Paris
CALSCALE:GREGORIAN
X-WR-CALDESC:Le calendrier des lettres et sciences humaines et sociales
METHOD:PUBLISH
BEGIN:VEVENT
DTSTART;VALUE=DATE:20180430
DTEND;VALUE=DATE:20180501
UID:432859-20180430@calenda.revues.org
SUMMARY:Des montagnes en crise : quelles réponses par l’innovation sociale ?
URL:https://calenda-formation.labocleo.org/432859
DESCRIPTION:De nombreux questionnements (voire controverses) surgissent actuellement quant au devenir des territoires de montagne autour d’enjeux tels que la gouvernance des espaces protégés et des frontières\, la relation ville-montagne\, les projets d’infrastruc… @plus_info https://calenda-formation.labocleo.org/432859
LOCATION:
END:VEVENT
END:VCALENDAR
