BEGIN:VCALENDAR
VERSION:2.0
PRODID:-//https://calenda-formation.labocleo.org
X-WR-CALNAME:Calenda
X-WR-TIMEZONE:Europe/Paris
CALSCALE:GREGORIAN
X-WR-CALDESC:The calendar for arts, humanities and social sciences
METHOD:PUBLISH
BEGIN:VEVENT
DTSTART;VALUE=DATE:20180315
DTEND;VALUE=DATE:20180316
UID:432958-20180315@calenda.revues.org
SUMMARY:The meaning of the deprivation of freedom 
URL:https://calenda-formation.labocleo.org/432958
DESCRIPTION:Ce colloque offre l’opportunité à des étudiants en master 2\, doctorants ou jeunes docteurs ainsi qu’à de jeunes professionnels de présenter leurs travaux de recherche devant un public composé de leurs pairs et de leurs ainés. Défini par un « champ de… @plus_info https://calenda-formation.labocleo.org/432958
LOCATION:Paris
END:VEVENT
BEGIN:VEVENT
DTSTART;VALUE=DATE:20180316
DTEND;VALUE=DATE:20180317
UID:432958-20180316@calenda.revues.org
SUMMARY:The meaning of the deprivation of freedom 
URL:https://calenda-formation.labocleo.org/432958
DESCRIPTION:Ce colloque offre l’opportunité à des étudiants en master 2\, doctorants ou jeunes docteurs ainsi qu’à de jeunes professionnels de présenter leurs travaux de recherche devant un public composé de leurs pairs et de leurs ainés. Défini par un « champ de… @plus_info https://calenda-formation.labocleo.org/432958
LOCATION:Paris
END:VEVENT
END:VCALENDAR
