BEGIN:VCALENDAR
VERSION:2.0
PRODID:-//https://calenda-formation.labocleo.org
X-WR-CALNAME:Calenda
X-WR-TIMEZONE:Europe/Paris
CALSCALE:GREGORIAN
X-WR-CALDESC:The calendar for arts, humanities and social sciences
METHOD:PUBLISH
BEGIN:VEVENT
DTSTART;VALUE=DATE:20180514
DTEND;VALUE=DATE:20180515
UID:433411-20180514@calenda.revues.org
SUMMARY:Call for offers at the "Law and Justice" research mission\, 2018
URL:https://calenda-formation.labocleo.org/433411
DESCRIPTION:Dans le cadre de sa programmation scientifique annuelle\, la Mission de recherche « Droit et justice » lance sa campagne 2018 d’appels à projets de recherche sur les thématiques suivantes : droit\, justice et numérique ; l’accès au droit et à la justic… @plus_info https://calenda-formation.labocleo.org/433411
LOCATION:Paris
END:VEVENT
END:VCALENDAR
