BEGIN:VCALENDAR
VERSION:2.0
PRODID:-//https://calenda-formation.labocleo.org
X-WR-CALNAME:Calenda
X-WR-TIMEZONE:Europe/Paris
CALSCALE:GREGORIAN
X-WR-CALDESC:The calendar for arts, humanities and social sciences
METHOD:PUBLISH
BEGIN:VEVENT
DTSTART;VALUE=DATE:20180327
DTEND;VALUE=DATE:20180328
UID:433615-20180327@calenda.revues.org
SUMMARY:The archaeolgy of the media
URL:https://calenda-formation.labocleo.org/433615
DESCRIPTION:Pionnier et figure tutélaire de la Medientheorie allemande et de l'archéologie des médias\, Friedrich Kittler sonde dans ce livre les infrastructures matérielles et techniques de la culture\, laissant apparaître\, au passage\, comment la psychanalyse est… @plus_info https://calenda-formation.labocleo.org/433615
LOCATION:Paris
END:VEVENT
END:VCALENDAR
